BEGIN:VCALENDAR
PRODID:-//eluceo/ical//2.0/EN
VERSION:2.0
CALSCALE:GREGORIAN
BEGIN:VEVENT
UID:06800fd72d32ab745a38a4da2d74fb65
DTSTAMP:20260422T212041Z
SUMMARY:Uncork Your Support!
DESCRIPTION:Jewish Federation of West-Central New Jersey\nCommunity Calenda
 r\nhttps://jfedwcnj.org/calendar/uncork-your-support\n\nJoin us for some w
 ine\, donate food for a local food pantry and make a few phone calls on be
 half of the community!\n\nMost needed items:\n\nCanned Meats (Stews\, Corn
 ed Beef\, Spam\, Chicken\, Turkey)\, Shelf Stable Milk (Parmalat\, Borden 
 etc)\, Canned Fruit (regular & no sugar)\, Spaghetti Sauce\, Canned Pastas
  (Ravioli\, Spaghettios\, Beefaroni\, etc.)\, Tuna\,  Juice   (Plastic 
 bottles\, juice boxes)\, Macaroni & Cheese\, Pasta\, “Creamy” Peanut 
 Butter & Jelly\, White or Brown Rice (regular & mixes)\,...
DTSTART;TZID=America/New_York:20171129T180000
DTEND;TZID=America/New_York:20171129T200000
END:VEVENT
END:VCALENDAR
