BEGIN:VCALENDAR
PRODID:-//eluceo/ical//2.0/EN
VERSION:2.0
CALSCALE:GREGORIAN
BEGIN:VEVENT
UID:8bd8c97d46ef086db9e6d377e61cb88d
DTSTAMP:20260422T104430Z
SUMMARY:Twenty-Six Seconds - A Personal History of the Zapruder Film
DESCRIPTION:Jewish Federation of West-Central New Jersey\nCommunity Calenda
 r\nhttps://jfedwcnj.org/calendar/twenty-six-seconds-a-personal-history-of-
 the-zapruder-film\n\nMeet the woman whose grandfather filmed 22 seconds of
  the event that changed history. \n\nOn November 22\, 1963\, Abraham Zapr
 uder left his office hoping for a glimpse of President John F. Kennedy’
 s motorcade. A Russian Jewish immigrant who loved his home in America\, Ab
 raham was thrilled at the chance to see the young president in person – 
 and perhaps be lucky enough to bring back a home movie. The 26 seconds of
  Zapruder’s footage depicting the JFK assassination is now iconic.\n\n 
 \n...
DTSTART;TZID=America/New_York:20171204T190000
DTEND;TZID=America/New_York:20171204T210000
END:VEVENT
END:VCALENDAR
