BEGIN:VCALENDAR
PRODID:-//eluceo/ical//2.0/EN
VERSION:2.0
CALSCALE:GREGORIAN
BEGIN:VEVENT
UID:90d97ede01f7b247a8eef969a9671b7f
DTSTAMP:20260421T032543Z
SUMMARY:Trip to the Lower East Side\, NYC Tenement Museum
DESCRIPTION:Jewish Federation of West-Central New Jersey\nCommunity Calenda
 r\nhttps://jfedwcnj.org/calendar/trip-to-the-lower-east-side-nyc-tenement-
 museum\n\nWalking Tour of the Home of "Victoria Confino"\n\nDiscover life 
 as an immigrant in 1916 through the eyes of 14-year-old Victoria Confino. 
 A costumed actor portraying Victoria provides a first-person perspective i
 nside her apartment. Victoria will share her experiences about immigrating
  to America from Greece\, living at 97 Orchard Street with her parents and
  five brothers\, and adjusting to life on the Lower East Side. Life on the
  Lower East Side was very different from the Confino’s hometown...
DTSTART;TZID=America/New_York:20200507T100000
DTEND;TZID=America/New_York:20200507T170000
END:VEVENT
END:VCALENDAR
