BEGIN:VCALENDAR
PRODID:-//eluceo/ical//2.0/EN
VERSION:2.0
CALSCALE:GREGORIAN
BEGIN:VEVENT
UID:6cb990c1e1d74a011e963ec5d3122fae
DTSTAMP:20260422T162835Z
SUMMARY:Tricky Tray on April 10th at Temple B'nai Shalom
DESCRIPTION:Jewish Federation of West-Central New Jersey\nCommunity Calenda
 r\nhttps://jfedwcnj.org/calendar/tricky-tray-on-april-10th-at-temple-bnai-
 shalom-1457815558\n\nTricky Tray on April 10th at Temple B'nai Shalom Temp
 le B'nai Shalom in East Brunswick will host its Tricky Tray Raffle on Sund
 ay April 10th at 4:00pm. There will be 3 levels of prizes\, grand prizes\,
  and a 50/50 raffle. Admission is $15. Those who register in advance will 
 receive a free level 1 ticket sheet. For more information and ticket order
  forms\, go to www.bnaishalom.com or contact TBSTrickyTray@gmail.com. Temp
 le B'nai Shalom is located at 15 Fern Road in East Brunswick.
DTSTART;TZID=America/New_York:20160410T160000
DTEND;TZID=America/New_York:20160410T190000
END:VEVENT
END:VCALENDAR
