BEGIN:VCALENDAR
PRODID:-//eluceo/ical//2.0/EN
VERSION:2.0
CALSCALE:GREGORIAN
BEGIN:VEVENT
UID:f0882fbe1236fc8da6d3960ce860d942
DTSTAMP:20260422T101337Z
SUMMARY:Tracing Tea from its Beginnings to the early Caravan Routes
DESCRIPTION:Jewish Federation of West-Central New Jersey\nCommunity Calenda
 r\nhttps://jfedwcnj.org/calendar/tracing-tea-from-its-beginnings-to-the-ea
 rly-caravan-routes\n\nAn interactive talk and tasting will be facilitated 
 by local tea expert\, Deborah Raab\, owner of Tea for All.\n\nThis tea di
 scovery session will edify the transition in China from tea as a beverage 
 of medicinal and spiritual benefit to becoming a commodity of economic pro
 portions throughout Asia. You will taste from the major categories of tea 
 and some Eastern European specialties. The fee is $5.00\, and advance reg
 istration is encouraged at www.Y2L@jewishfamilysvc.org.          
   ...
DTSTART;TZID=America/New_York:20150730T130000
DTEND;TZID=America/New_York:20150730T143000
END:VEVENT
END:VCALENDAR
