BEGIN:VCALENDAR
PRODID:-//eluceo/ical//2.0/EN
VERSION:2.0
CALSCALE:GREGORIAN
BEGIN:VEVENT
UID:d2af19e313a9f76ce212e685b7a60056
DTSTAMP:20260422T173616Z
SUMMARY:Total Memory Workout Series: Improving Your Recall for Names
DESCRIPTION:Jewish Federation of West-Central New Jersey\nCommunity Calenda
 r\nhttps://jfedwcnj.org/calendar/total-memory-workout-series-improving-you
 r-recall-for-names-1442594545\n\nThis is an information session about the 
 Wilf At Home program. Learn about some helpful tips for improving your mem
 ory for names. Presented by: Trained Total Memory Workout Facilitator -  D
 avid Rosenberg\, Executive Director\, Wilf At HomeThis program will take p
 lace at Lin’s Kosher Chinese Kitchen\, 244 S. Main Street\, Manville\, N
 J 08835. The Program and Lunch are FREE but you must register at  732-649-
 3509 or athome@wilfcampus.org. *This event does not accept walk-ins.*
DTSTART;TZID=America/New_York:20151008T120000
DTEND;TZID=America/New_York:20151008T140000
END:VEVENT
END:VCALENDAR
