BEGIN:VCALENDAR
PRODID:-//eluceo/ical//2.0/EN
VERSION:2.0
CALSCALE:GREGORIAN
BEGIN:VEVENT
UID:ac1111b80b7670be31130f6ace9809d2
DTSTAMP:20260426T003746Z
SUMMARY:Tikkun Leil Shavuot
DESCRIPTION:Jewish Federation of West-Central New Jersey\nCommunity Calenda
 r\nhttps://jfedwcnj.org/calendar/tikkun-leil-shavuot\n\nFree to the Commun
 ity\n\nWe all stood together at Mt. Sinai\; for all of our differences\, w
 e still stand together today. Join Congregation B’nai Israel\, Congressi
 on Knesseth Israel\, Temple Beth-El and Temple Sholom at Temple Sholom for
  a communal celebration of Shavuot. We’ll learn together\, talk together
 \, and eat together as we celebrate the receiving of the Torah. Dessert an
 d youth programming included.\n\nAll ages are welcome!
DTSTART;TZID=America/New_York:20180519T193000
DTEND;TZID=America/New_York:20180519T213000
END:VEVENT
END:VCALENDAR
