BEGIN:VCALENDAR
PRODID:-//eluceo/ical//2.0/EN
VERSION:2.0
CALSCALE:GREGORIAN
BEGIN:VEVENT
UID:f355fdbf19e5c38a7cbb69764cb061cf
DTSTAMP:20260424T062816Z
SUMMARY:THS Presents Tony Dokoupil
DESCRIPTION:Jewish Federation of West-Central New Jersey\nCommunity Calenda
 r\nhttps://jfedwcnj.org/calendar/ths-presents-tony-dokoupil-1742936332\n\n
 In honor of Rabbi Randi Musnitsky’s Year of Celebration\, Legacy & Mazel
 \, Temple Har Shalom is thrilled to welcome Tony Dokoupil on Tuesday\, Apr
 il 22\, 2025.\n\nTony Dokoupil is a critically acclaimed author and co-hos
 t of CBS MORNINGS\, a key part of the team delivering the first look at th
 e day’s top stories. He has co-anchored the program since 2016 from the 
 sites of critical news events around the world and has interviewed a varie
 ty of major artists\, entertainers and newsmakers. Join us...
DTSTART;TZID=America/New_York:20250422T193000
DTEND;TZID=America/New_York:20250422T213000
END:VEVENT
END:VCALENDAR
