BEGIN:VCALENDAR
PRODID:-//eluceo/ical//2.0/EN
VERSION:2.0
CALSCALE:GREGORIAN
BEGIN:VEVENT
UID:78282145fa0c2041a8a7ec4241bd262b
DTSTAMP:20260424T115451Z
SUMMARY:THREE YEARS\, EIGHT MONTHS\, AND TWENTY DAYS: Exhibition Opening!
DESCRIPTION:Jewish Federation of West-Central New Jersey\nCommunity Calenda
 r\nhttps://jfedwcnj.org/calendar/three-years-eight-months-and-twenty-days-
 exhibition-opening\n\nTHREE YEARS\, EIGHT MONTHS\, AND TWENTY DAYS: The Ca
 mbodian Atrocities and the Search for Justice Exhibition Opening!\n\nThurs
 day\, October 5th\, 8 pm - 9 pm (Online)\n\nThe Institute of Holocaust & G
 enocide Studies at RVCC will present a virtual opening of the exhibition 
 Three Years\, Eight Months\, and Twenty Days: The Cambodian Atrocities and
  the Search for Justice.\n\nFor three years\, eight months\, and 20 days\,
  the Khmer Rouge regime\, led by Pol Pot\, ruled Cambodia. The group enact
 ed a program...
DTSTART;TZID=America/New_York:20231005T200000
DTEND;TZID=America/New_York:20231005T210000
END:VEVENT
END:VCALENDAR
