BEGIN:VCALENDAR
PRODID:-//eluceo/ical//2.0/EN
VERSION:2.0
CALSCALE:GREGORIAN
BEGIN:VEVENT
UID:e2a205b90c05f096a855e52a64ade07f
DTSTAMP:20260422T110454Z
SUMMARY:Thought Provoking Thursdays: The Borscht Belt with Marty Schniet 
DESCRIPTION:Jewish Federation of West-Central New Jersey\nCommunity Calenda
 r\nhttps://jfedwcnj.org/calendar/thought-provoking-thursdays-the-borscht-b
 elt-with-marty-schniet-1445894708\n\nOur new Thursday programs will offer 
 you interesting speakers and authors presenting on a variety of topics.\nI
 t&rsquo\;s social\, it&rsquo\;s educational and it&rsquo\;s all right here
  at the J! All are welcome to attend.\n$5/Person (Includes the program\, a
  bagel &ldquo\;and&rdquo\;)\n\nHistorically\, half of America&rsquo\;s Jew
 s lived in New York City. remarkable time of the Borscht Belt will never b
 e\nduplicated\, and what survives of the Borscht Belt are the fabulous mem
 ories. Marty Schniet will detail the history\nof The Borscht...
DTSTART;TZID=America/New_York:20151105T120000
DTEND;TZID=America/New_York:20151105T140000
END:VEVENT
END:VCALENDAR
