BEGIN:VCALENDAR
PRODID:-//eluceo/ical//2.0/EN
VERSION:2.0
CALSCALE:GREGORIAN
BEGIN:VEVENT
UID:1599bbcbd9f5bf9e4147d16618b52709
DTSTAMP:20260422T203743Z
SUMMARY:Thought Provoking Thursdays:  Life and times of Harry Houdini
DESCRIPTION:Jewish Federation of West-Central New Jersey\nCommunity Calenda
 r\nhttps://jfedwcnj.org/calendar/thought-provoking-thursdays--life-and-tim
 es-of-harry-houdini-1456787325\n\nJoin us and learn about the life and tim
 es of Harry Houdini\, including the fact that he was Jewish! Our Thursday 
 programs will offer you interesting speakers and authors presenting on a v
 ariety of topics. It&#039\;s social\, it&#039\;s educational and it&#039\;
 s all right here at the J! All are Welcome to Attend. Register on-line or 
 call 908.725.6994 x201.\n$5/Person  (Includes program\, a bagel &quot\;and
 &quot\;)
DTSTART;TZID=America/New_York:20160317T120000
DTEND;TZID=America/New_York:20160317T140000
END:VEVENT
END:VCALENDAR
