BEGIN:VCALENDAR
PRODID:-//eluceo/ical//2.0/EN
VERSION:2.0
CALSCALE:GREGORIAN
BEGIN:VEVENT
UID:e459778d003f76e7526ea3673c77c89f
DTSTAMP:20260421T213116Z
SUMMARY:Thought Provoking Thursday: Evelyn Rauch\, Surviving Steffi
DESCRIPTION:Jewish Federation of West-Central New Jersey\nCommunity Calenda
 r\nhttps://jfedwcnj.org/calendar/thought-provoking-thursday-evelyn-rauch-s
 urviving-steffi-1480277109\n\nThis is Evelyn Rauch&rsquo\;s personal accou
 nt of her mother\, Steffi and her tragic life as a Holocaust survivor.  Ev
 elyn&rsquo\;s deep love for her mother had always been overshadowed by her
  resentment over their troubled relationship. Evelyn takes us on a sacred 
 journey of discovery as she unravels the mystery of her mother&rsquo\;s pa
 st.\n\n$5/person (includes a Nosh) \n\nOur Thursday programs offer you int
 eresting speakers and authors presenting on a variety of topics.  It&#039\
 ;s social\, it&#039\;s educational and it&#039\;s...
DTSTART;TZID=America/New_York:20161201T190000
DTEND;TZID=America/New_York:20161201T210000
END:VEVENT
END:VCALENDAR
