BEGIN:VCALENDAR
PRODID:-//eluceo/ical//2.0/EN
VERSION:2.0
CALSCALE:GREGORIAN
BEGIN:VEVENT
UID:c7c48b3185fedd489f98e92760cc823e
DTSTAMP:20260422T080537Z
SUMMARY:Thought Proking Thursday: Nothing Like a Dame:  with Eddie Shapiro
DESCRIPTION:Jewish Federation of West-Central New Jersey\nCommunity Calenda
 r\nhttps://jfedwcnj.org/calendar/thought-proking-thursday-nothing-like-a-d
 ame--with-eddie-shapiro-1462305616\n\nCalling all Broadway enthusiasts!!!!
  Hear first-hand about your favorite women of Broadway. Eddie Shapiro prom
 ises a fun afternoon you won&rsquo\;t soon forget! In Nothing like a Dame\
 , theater journalist Eddie Shapiro opens a &ldquo\;jewelry box&rdquo\; ful
 l of glittering surprises\, through in-depth conversations with 20 leading
  women of Broadway. He carefully selected Tony Award-winning stars that ha
 ve spent the majority of their careers in theater. The women interviewed s
 pent endless hours discussing their...
DTSTART;TZID=America/New_York:20160519T120000
DTEND;TZID=America/New_York:20160519T140000
END:VEVENT
END:VCALENDAR
