BEGIN:VCALENDAR
PRODID:-//eluceo/ical//2.0/EN
VERSION:2.0
CALSCALE:GREGORIAN
BEGIN:VEVENT
UID:6a023892c1d098c0040442c6121c58c2
DTSTAMP:20260422T131153Z
SUMMARY:Theodore Bikel- In the Shoes of Sholom Aleichem
DESCRIPTION:Jewish Federation of West-Central New Jersey\nCommunity Calenda
 r\nhttps://jfedwcnj.org/calendar/theodore-bikel-in-the-shoes-of-sholom-ale
 ichem\n\nAn engaging evening featuring a screening of the legenday Theodor
 e Bikel z”l’s critically acclaimed documentary film\, followed by a li
 vely audience discussion with Aimee Ginsburg Bikel- widow of Theo\, and Di
 rector\, The Theodore Bikel Legacy Project.\n\n \n\n$ 18 Includes film an
 d Falafel dinner 
DTSTART;TZID=America/New_York:20191212T183000
DTEND;TZID=America/New_York:20191212T210000
END:VEVENT
END:VCALENDAR
