BEGIN:VCALENDAR
PRODID:-//eluceo/ical//2.0/EN
VERSION:2.0
CALSCALE:GREGORIAN
BEGIN:VEVENT
UID:501680e45061503a10ac20ba50677ed3
DTSTAMP:20260422T080549Z
SUMMARY:The Womens' Rosh Chodesh Societ of Hunterdon County
DESCRIPTION:Jewish Federation of West-Central New Jersey\nCommunity Calenda
 r\nhttps://jfedwcnj.org/calendar/the-womens-rosh-chodesh-societ-of-hunterd
 on-county\n\nLocation: CJC-HC\n​Fee: $95/year or $18/session\nTopic: Pai
 ntin & Drawing: The Inner Eye of the Artist\n\nWe are fascinated by artis
 ts. Their work embodies what we want our lives to be: beautiful\, meaningf
 ul\, and purposeful. But art is not only for artists. It's for anyone who 
 craves to know how to live more creatively\, more deeply. Join us on a sev
 en-part journey as we explore Judaism's insights into the arts and how the
 y beautify and transform our lives\, one brushstroke at a time. This y...
DTSTART;TZID=America/New_York:20151112T193000
DTEND;TZID=America/New_York:20151112T213000
END:VEVENT
END:VCALENDAR
