BEGIN:VCALENDAR
PRODID:-//eluceo/ical//2.0/EN
VERSION:2.0
CALSCALE:GREGORIAN
BEGIN:VEVENT
UID:be519e392e8f5c4db2fda56f89394c53
DTSTAMP:20260422T234102Z
SUMMARY:THE WATERGATE GIRL – JILL WINE-BANKS
DESCRIPTION:Jewish Federation of West-Central New Jersey\nCommunity Calenda
 r\nhttps://jfedwcnj.org/calendar/the-watergate-girl--jill-wine-banks-16007
 82523\n\nObstruction of justice\, the specter of impeachment\, sexism at w
 ork\, shocking revelations: Jill Wine-Banks takes us inside her trial by f
 ire as a Watergate prosecutor.\n\n It was a time\, much like today\, when 
 Americans feared for the future of their democracy\, and women stood up fo
 r equal treatment. At the crossroads of the Watergate scandal and the wome
 n’s movement was a young lawyer named Jill Wine Volner (as she was then 
 known)\, barely thirty years old and the only woman on the team that...
DTSTART;TZID=America/New_York:20201208T190000
DTEND;TZID=America/New_York:20201208T210000
END:VEVENT
END:VCALENDAR
