BEGIN:VCALENDAR
PRODID:-//eluceo/ical//2.0/EN
VERSION:2.0
CALSCALE:GREGORIAN
BEGIN:VEVENT
UID:0a250da63d522c602fd9dc6e1f9f8a10
DTSTAMP:20260422T131223Z
SUMMARY:The Tragic Story of the St. Louis
DESCRIPTION:Jewish Federation of West-Central New Jersey\nCommunity Calenda
 r\nhttps://jfedwcnj.org/calendar/the-tragic-story-of-the-st-louis-16648989
 64\n\nThe Tragic Story of the St. Louis
DTSTART;TZID=America/New_York:20221103T190000
DTEND;TZID=America/New_York:20221103T200000
END:VEVENT
END:VCALENDAR
