BEGIN:VCALENDAR
PRODID:-//eluceo/ical//2.0/EN
VERSION:2.0
CALSCALE:GREGORIAN
BEGIN:VEVENT
UID:69f88fede05650c84e6ef8a7269780c6
DTSTAMP:20260420T211905Z
SUMMARY:The Story of the Jews In Greece
DESCRIPTION:Jewish Federation of West-Central New Jersey\nCommunity Calenda
 r\nhttps://jfedwcnj.org/calendar/the-story-of-the-jews-in-greece-145261671
 3\n\nThe Story of the Jews of Greece: A Panoramic Journey of Glory\, Tradi
 tion and Struggle for Survival"\n\nThe Unknown story of the Greek Jews fro
 m Antiquity to Modern Times\n\npresented by \nPeter Stavrianidis\, Ph.D*\
 n\n \n\nMonday\, April 11th\, 2016\n7:00PM - 9:00PM\nSSBJCC\n\n \n\n \
 n\n* Dr. Peter Starvianidis has done extensive research on the history of 
 Greek Jewry and is in the process of publishing his findings in the near f
 uture. Besides being a successful entrepreneur running his fam...
DTSTART;TZID=America/New_York:20160411T190000
DTEND;TZID=America/New_York:20160411T210000
END:VEVENT
END:VCALENDAR
