BEGIN:VCALENDAR
PRODID:-//eluceo/ical//2.0/EN
VERSION:2.0
CALSCALE:GREGORIAN
BEGIN:VEVENT
UID:f20c674030a2a74fd2d100963ae1a1ab
DTSTAMP:20260423T014056Z
SUMMARY:The Story of Anne Frank with Bright Star Theatre
DESCRIPTION:Jewish Federation of West-Central New Jersey\nCommunity Calenda
 r\nhttps://jfedwcnj.org/calendar/the-story-of-anne-frank-with-bright-star-
 theatre\n\nON STAGE AT RVCC: The Story of Anne Frank with Bright Star Thea
 tre. in person at RVCC and streaming online. World War II was a desperate 
 and intense time for everyone\, but it was especially devastating to the J
 ewish people living under Nazi rule. Through direct accounts from Anne Fra
 nk’s diary and the heartfelt retelling of her story by her father\, Otto
 \, this production offers an engaging and accessible approach to one of hi
 story’s darkest chapters. The courage of Anne Frank and her famil...
DTSTART;TZID=America/New_York:20250304T100000
DTEND;TZID=America/New_York:20250304T110000
END:VEVENT
END:VCALENDAR
