BEGIN:VCALENDAR
PRODID:-//eluceo/ical//2.0/EN
VERSION:2.0
CALSCALE:GREGORIAN
BEGIN:VEVENT
UID:b5451c45ca9656d64838707763ae35ed
DTSTAMP:20260423T075022Z
SUMMARY:The Skincare Hoax
DESCRIPTION:Jewish Federation of West-Central New Jersey\nCommunity Calenda
 r\nhttps://jfedwcnj.org/calendar/the-skincare-hoax\n\nThis book is an expo
 se on the marketing tactics used that get us all to buy\nover-the-counter 
 skincare. It will make you rethink everything you know\nabout skincare. Yo
 u will learn about the well kept secrets of the skincare\nindustry\, how m
 edia ads influence our buying decisions and get recommendations\nfor effec
 tive products and simple skincare regimens that are easy and\naffordable.\
 n\n\nDr. Fayne Frey is a New York based Ivy League trained board certified
  dermatologist. She\nspecializes i...
DTSTART;TZID=America/New_York:20240206T190000
DTEND;TZID=America/New_York:20240206T210000
END:VEVENT
END:VCALENDAR
