BEGIN:VCALENDAR
PRODID:-//eluceo/ical//2.0/EN
VERSION:2.0
CALSCALE:GREGORIAN
BEGIN:VEVENT
UID:37f0a4ef21c8003228c37917e9acca57
DTSTAMP:20260421T211049Z
SUMMARY:The Shoah Ambassadors
DESCRIPTION:Jewish Federation of West-Central New Jersey\nCommunity Calenda
 r\nhttps://jfedwcnj.org/calendar/the-shoah-ambassadors\n\nLearning Through
  Experience Online: The Shoah Ambassadors \n\nThis one-hour documentary f
 ilm\, Shoah Ambassadors\, bridges the chasm of today’s younger generatio
 n with that of the Holocaust generation through a unique and creative jour
 ney that two young non-Jewish individuals go on. Over the two-year product
 ion\, through both song and art\, the ambassadors Hailey Callahan and Curt
 is Bates take a deep personal dive into the atrocities of the Holocaust an
 d WWII. There will be a Q&A following thi...
DTSTART;TZID=America/New_York:20221021T100000
DTEND;TZID=America/New_York:20221021T113000
END:VEVENT
END:VCALENDAR
