BEGIN:VCALENDAR
PRODID:-//eluceo/ical//2.0/EN
VERSION:2.0
CALSCALE:GREGORIAN
BEGIN:VEVENT
UID:19f4c5a025f93dcaaf5f147ff481a091
DTSTAMP:20260422T091628Z
SUMMARY:The Role of a Museum Curator—An Insider View from Montreal Holoca
 ust Museum
DESCRIPTION:Jewish Federation of West-Central New Jersey\nCommunity Calenda
 r\nhttps://jfedwcnj.org/calendar/the-role-of-a-museum-curatoran-insider-vi
 ew-from-the-montreal-holocaust-museum\n\nHave you ever wondered what muse
 um curators do in their role at a museum? What questions must a museum cur
 ator consider as they create an exhibition? What is the life of an object 
 that is added to a museum collection? We will get answers to these questio
 ns and hear more about the importance of museums in our world today. Join 
 us as we speak with Marie-Blanche Fourcade\, head of collections and exhib
 itions for The Montreal Holocaust Museum\, and our partner for the Witnes
 s to History\, Keepers ...
DTSTART;TZID=America/New_York:20230113T100000
DTEND;TZID=America/New_York:20230113T110000
END:VEVENT
END:VCALENDAR
