BEGIN:VCALENDAR
PRODID:-//eluceo/ical//2.0/EN
VERSION:2.0
CALSCALE:GREGORIAN
BEGIN:VEVENT
UID:baeab3761380417f68e393dbc891ad51
DTSTAMP:20260421T163056Z
SUMMARY:The Rocket Man!  Live at the J... Elton John Tribute Band
DESCRIPTION:Jewish Federation of West-Central New Jersey\nCommunity Calenda
 r\nhttps://jfedwcnj.org/calendar/the-rocket-man--live-at-the-j-elton-john-
 tribute-band-1468428077\n\n&quot\;The Rocket Man&quot\; comes to the JCC! 
 This Elton John Tribute band performs all throughout the US to sold out sh
 ows.  We are thrilled to have them perform at the JCC for this year&#039\;
 s adult summer social. \n\nIt will be a true concert experience with tailg
 ating in the parking lot before the event from 6:30 to 7:45 pm. Concert be
 gins at 8:00 pm.   BYOB and food\, Snack Bar will open to purchase snacks 
 during the concert.  The concert will be by the outdoor pool. (Gymnasium i
 f it rains.) \n\n$25 in...
DTSTART;TZID=America/New_York:20160730T183000
DTEND;TZID=America/New_York:20160730T220000
END:VEVENT
END:VCALENDAR
