BEGIN:VCALENDAR
PRODID:-//eluceo/ical//2.0/EN
VERSION:2.0
CALSCALE:GREGORIAN
BEGIN:VEVENT
UID:6f2be28c53be440dc3730ce56356b9fd
DTSTAMP:20260420T173124Z
SUMMARY:The Ritchie Boys: Irma Horwitz Film Series
DESCRIPTION:Jewish Federation of West-Central New Jersey\nCommunity Calenda
 r\nhttps://jfedwcnj.org/calendar/the-ritchie-boys\n\nDuring WWII\, the U.S
 . formed an elite intelligence unit -- mostly German Jewish academics -- a
 t Camp Ritchie\, Maryland. Tasked with devising ways to break the morale o
 f the SS\, these men are often credited with bringing an early end to the 
 war. Some of these heroes\, who are now in the eighties\, are reunited in 
 this documentary.\n\nDiscounted Member : $20.00\n\nFee: $25.00\n\n \n\n
 INCLUDES FALAFEL DINNER\n\n \n\nRegister Here
DTSTART;TZID=America/New_York:20230215T190000
DTEND;TZID=America/New_York:20230215T210000
END:VEVENT
END:VCALENDAR
