BEGIN:VCALENDAR
PRODID:-//eluceo/ical//2.0/EN
VERSION:2.0
CALSCALE:GREGORIAN
BEGIN:VEVENT
UID:fcc15dad65a6cd58bb7bf1526dff75b8
DTSTAMP:20260423T200045Z
SUMMARY:THE QUEEN OF TUESDAY- DARIN STRAUSS
DESCRIPTION:Jewish Federation of West-Central New Jersey\nCommunity Calenda
 r\nhttps://jfedwcnj.org/calendar/the-queen-of-tuesday--darin-strauss-16007
 83837\n\n“A gorgeous\, Technicolor take on America in the middle of the 
 twentieth century.”—Colson Whitehead\, Pulitzer Prize–winning author
  of The Nickel Boys\n\n From the award-winning\, bestselling author of Cha
 ng & Eng and Half a Life\, a new novel about Lucille Ball\, a thrilling lo
 ve story starring Hollywood’s first true media mogul.\n\n This indelible
  romance begins with a daring conceit—that the author’s grandfather ma
 y have had an affair with Lucille Ball. Strauss offers a fresh...
DTSTART;TZID=America/New_York:20210406T120000
DTEND;TZID=America/New_York:20210406T140000
END:VEVENT
END:VCALENDAR
