BEGIN:VCALENDAR
PRODID:-//eluceo/ical//2.0/EN
VERSION:2.0
CALSCALE:GREGORIAN
BEGIN:VEVENT
UID:479eea2884ce1474cd6aa13c4eeceb9e
DTSTAMP:20260419T130147Z
SUMMARY:The Progressives’ Bible
DESCRIPTION:Jewish Federation of West-Central New Jersey\nCommunity Calenda
 r\nhttps://jfedwcnj.org/calendar/the-progressives-bible-1739910782\n\nThe 
 Bible has long been a source of political fervor in America\, both for con
 servative and progressive voices. Join professors Claudia Setzer (Manhatta
 n University) and Gary A. Rendsburg (Rutgers University) for a conversatio
 n on how abolitionists\, women's rights supporters\, contemporary climate 
 activists\, and other social reformers saw (and see) their struggles in th
 e Bible's narratives and characters\, drawing on its verses to support the
 ir arguments. A leading scholar of the Hebrew Bible an...
DTSTART;TZID=America/New_York:20250429T193000
DTEND;TZID=America/New_York:20250429T203000
END:VEVENT
END:VCALENDAR
