BEGIN:VCALENDAR
PRODID:-//eluceo/ical//2.0/EN
VERSION:2.0
CALSCALE:GREGORIAN
BEGIN:VEVENT
UID:9b9b7740fac25e0bc3c45135d92f9fff
DTSTAMP:20260421T154617Z
SUMMARY:THE POWER OF JEWISH PEOPLEHOOD THROUGH PERSONAL AND COLLECTIVE MOUR
 NING
DESCRIPTION:Jewish Federation of West-Central New Jersey\nCommunity Calenda
 r\nhttps://jfedwcnj.org/calendar/the-power-of-jewish-peoplehood-through-pe
 rsonal-and-collective-mourning\n\nAn intimate conversation with Israelis w
 ho know the heartache and anguish of loss from their own experiences.
DTSTART;TZID=America/New_York:20210413T200000
DTEND;TZID=America/New_York:20210413T210000
END:VEVENT
END:VCALENDAR
