BEGIN:VCALENDAR
PRODID:-//eluceo/ical//2.0/EN
VERSION:2.0
CALSCALE:GREGORIAN
BEGIN:VEVENT
UID:af11000c15592e7fa11c97d13449624d
DTSTAMP:20260422T061302Z
SUMMARY:The Oscar and Ella Wilf Campus for Senior Living Annual Meeting and
  Dinner
DESCRIPTION:Jewish Federation of West-Central New Jersey\nCommunity Calenda
 r\nhttps://jfedwcnj.org/calendar/the-oscar-and-ella-wilf-campus-for-senior
 -living-annual-meeting-and-dinner-1471019937\n\nThe Oscar and Ella Wilf Ca
 mpus for Senior Living annual dinner and meeting
DTSTART;TZID=America/New_York:20161214T183000
DTEND;TZID=America/New_York:20161214T213000
END:VEVENT
END:VCALENDAR
