BEGIN:VCALENDAR
PRODID:-//eluceo/ical//2.0/EN
VERSION:2.0
CALSCALE:GREGORIAN
BEGIN:VEVENT
UID:dcddad355003cea270ac142898c29cc4
DTSTAMP:20260420T211855Z
SUMMARY:The Oscar and Ella Wilf Campus for Senior LIving  40th Anniversary 
 Gala
DESCRIPTION:Jewish Federation of West-Central New Jersey\nCommunity Calenda
 r\nhttps://jfedwcnj.org/calendar/the-oscar-and-ella-wilf-campus-for-senior
 -living--40th-anniversary-gala-1452700323\n\nWilf Campus 40th Anniversary 
 Gala Join us in celebrating 40 years of our service for seniors in the Jew
 ish community.  Sponsorship and ticket information will be available short
 ly.
DTSTART;TZID=America/New_York:20160925T160000
DTEND;TZID=America/New_York:20160925T235500
END:VEVENT
END:VCALENDAR
