BEGIN:VCALENDAR
PRODID:-//eluceo/ical//2.0/EN
VERSION:2.0
CALSCALE:GREGORIAN
BEGIN:VEVENT
UID:ef137e97496f30514dda91b7dfe763b1
DTSTAMP:20260422T065308Z
SUMMARY:THE NINTH NIGHT OF HANUKKAH – ERICA S. PERL
DESCRIPTION:Jewish Federation of West-Central New Jersey\nCommunity Calenda
 r\nhttps://jfedwcnj.org/calendar/the-ninth-night-of-hanukkah--erica-s-perl
 -1600782634\n\nIt’s Hanukkah\, and Max and Rachel are excited to light t
 he menorah in their family’s new apartment. But\, unfortunately\, their 
 Hanukkah box is missing. So now they have no menorah\, candles\, dreidels\
 , or\, well\, anything! Luckily\, their neighbors are happy to help\, offe
 ring thoughtful and often humorous stand-in items each night. And then\, j
 ust as Hanukkah is about to end\, Max and Rachel\, inspired by the shamash
  (“helper”) candle\, have a brilliant idea: they’re going to celebra
 te the...
DTSTART;TZID=America/New_York:20201213T163000
DTEND;TZID=America/New_York:20201213T183000
END:VEVENT
END:VCALENDAR
