BEGIN:VCALENDAR
PRODID:-//eluceo/ical//2.0/EN
VERSION:2.0
CALSCALE:GREGORIAN
BEGIN:VEVENT
UID:735ef90c91a87789c248e1764164b922
DTSTAMP:20260424T125121Z
SUMMARY:The New Passover Menu Paula Shoyer
DESCRIPTION:Jewish Federation of West-Central New Jersey\nCommunity Calenda
 r\nhttps://jfedwcnj.org/calendar/the-new-passover-menu-paula-shoyer-145642
 9871\n\nAre you looking to update your Passover menu? Of course you are…
  who isn’t?!\nPassover is a celebration of freedom\, and Paula Shoyer\, 
 author of several Jewish cookbooks\, delivers an innovative Passover colle
 ction that celebrates culinary freedom\, while still honoring the holiday
 ’s dietary rules. Her dishes combine all the nostalgic pleasure of famil
 y favorites with 65 contemporary creations sure to please all cooks. Shoye
 r redefines Passover dining with updated and global recipes for...
DTSTART;TZID=America/New_York:20160406T120000
DTEND;TZID=America/New_York:20160406T140000
END:VEVENT
END:VCALENDAR
