BEGIN:VCALENDAR
PRODID:-//eluceo/ical//2.0/EN
VERSION:2.0
CALSCALE:GREGORIAN
BEGIN:VEVENT
UID:217c8069dc57f08646e70699f7bff0c3
DTSTAMP:20260422T061322Z
SUMMARY:The National Political Landscape and the Federal Response to COVID-
 19
DESCRIPTION:Jewish Federation of West-Central New Jersey\nCommunity Calenda
 r\nhttps://jfedwcnj.org/calendar/the-national-political-landscape-and-the-
 federal-response-to-covid-19\n\nJoin the Jewish Federation of Somersert\, 
 Hunterdon & Warren Counties for a Vertual Town Hall with Stephan Kline\,V.
 P. for Public Policy at JFNA and Interim Director of the Washington Office
  of JFNA.\n\n \n\nThe Town Hall Will take pace on Zoom. 
DTSTART;TZID=America/New_York:20200520T190000
DTEND;TZID=America/New_York:20200520T200000
END:VEVENT
END:VCALENDAR
