BEGIN:VCALENDAR
PRODID:-//eluceo/ical//2.0/EN
VERSION:2.0
CALSCALE:GREGORIAN
BEGIN:VEVENT
UID:e86b57ba440ededebd5e25561d7e290b
DTSTAMP:20260424T001413Z
SUMMARY:The Loose Canons
DESCRIPTION:Jewish Federation of West-Central New Jersey\nCommunity Calenda
 r\nhttps://jfedwcnj.org/calendar/the-loose-canons-1666910265\n\nThe Loose 
 Canons in Concert \nSaturday November 12th @ 8pm \nA night of music and la
 ughs \n\nGather your friends and join us for a fun night with The Loose Ca
 nons - Saturday\, November 12 at 8 PM.  \n\nThe Loose Canons are a 9-voice
  singing group whose members include our own Ellen Goldstein and Hazzan Br
 ian! They specialize in folk music\, well-seasoned pop songs\, and musical
  parodies. They guarantee that everyone who comes will laugh a lot and hav
 e a really good time!\n\nThe setting will be...
DTSTART;TZID=America/New_York:20221112T200000
DTEND;TZID=America/New_York:20221112T220000
END:VEVENT
END:VCALENDAR
