BEGIN:VCALENDAR
PRODID:-//eluceo/ical//2.0/EN
VERSION:2.0
CALSCALE:GREGORIAN
BEGIN:VEVENT
UID:59e176faa13eb9498db0be0eafd126f9
DTSTAMP:20260422T005200Z
SUMMARY:The Light from the Yellow Star Art Exhibition at RVCC
DESCRIPTION:Jewish Federation of West-Central New Jersey\nCommunity Calenda
 r\nhttps://jfedwcnj.org/calendar/the-light-from-the-yellow-star-art-exhibi
 tion-at-rvcc\n\nThe Light from the Yellow Star Art Exhibition at RVCC\n\nO
 pening September 7th ​​\n\n \n\nMiddle School and High School studen
 ts created artwork for this exhibit after reading\, viewing\, and discussi
 ng the book Light from the Yellow Star\, “A letter of love from the Ho
 locaust\,” written by Robert Fisch\, a Holocaust survivor\, pediatrician
 \, author\, and graphic artist. The book describes Robert Fisch’s diffic
 ult journey during the Holocaust. Each page is then accompanied by a graph
 i...
DTSTART;TZID=America/New_York:20220907T090000
DTEND;TZID=America/New_York:20221207T090000
END:VEVENT
END:VCALENDAR
