BEGIN:VCALENDAR
PRODID:-//eluceo/ical//2.0/EN
VERSION:2.0
CALSCALE:GREGORIAN
BEGIN:VEVENT
UID:5938a3578675c74c0a0489ba2b733b24
DTSTAMP:20260420T114445Z
SUMMARY:The Legacy of the Jewish Justices of the Supreme Court
DESCRIPTION:Jewish Federation of West-Central New Jersey\nCommunity Calenda
 r\nhttps://jfedwcnj.org/calendar/the-legacy-of-the-jewish-justices-of-the-
 supreme-court\n\nThe Legacy of The Jewish Justices of The Supreme
  Court \n\n \n\nSpeaker: Judge Phillip Carchman\n\n \n\nTuesday\, 
 November 1\, 2022 \n\n7pm \n\n775 Talamini Road\, Bridgewater NJ 
 08807 \n\n \n\n$18 per person \n\nCardozo Society Members Free\n\n
  \n\nFor questions contact Lauren Edelman at 908-758-2003 or Lede
 lman@jfedshaw.org
DTSTART;TZID=America/New_York:20221101T190000
DTEND;TZID=America/New_York:20221101T210000
END:VEVENT
END:VCALENDAR
