BEGIN:VCALENDAR
PRODID:-//eluceo/ical//2.0/EN
VERSION:2.0
CALSCALE:GREGORIAN
BEGIN:VEVENT
UID:a8d1183592777ceeded46dea10be1517
DTSTAMP:20260423T074942Z
SUMMARY:The Last Speech of Moses: The Book of Deuteronomy (2)
DESCRIPTION:Jewish Federation of West-Central New Jersey\nCommunity Calenda
 r\nhttps://jfedwcnj.org/calendar/the-last-speech-of-moses-the-book-of-deut
 eronomy-2\n\nInstructor: Rabbi Arnie Gluck\nTuesdays (4 Sessons)\nLocat
 ion: TBE\n\nThe fifth book of the Torah\, Deuteronomy\, is distinctly and
  uniquely different from the other four books. Like the others\, it is acc
 epted to part of the revelation that Moses received at Mount Sinai. Unlike
  the others\, it is presented  as the final speech of a human being\, Mos
 es. That is only the beginning of the strange and fascinating content of t
 his extraordinary book. Based on the profound scholarship of Dr. Micha...
DTSTART;TZID=America/New_York:20151117T193000
DTEND;TZID=America/New_York:20151117T210000
END:VEVENT
END:VCALENDAR
