BEGIN:VCALENDAR
PRODID:-//eluceo/ical//2.0/EN
VERSION:2.0
CALSCALE:GREGORIAN
BEGIN:VEVENT
UID:758ffb1a233199c88119d3e9a02405e6
DTSTAMP:20260423T133030Z
SUMMARY:The Last Speech of Moses: The Book of Deuteronomy
DESCRIPTION:Jewish Federation of West-Central New Jersey\nCommunity Calenda
 r\nhttps://jfedwcnj.org/calendar/the-last-speech-of-moses-the-book-of-deut
 eronomy\n\nInstructor: Rabbi Arnie Gluck\nTuesdays (4 Sessons)\nLocation: 
 TBE\n\nThe fifth book of the Torah\, Deuteronomy\, is distinctly and uniqu
 ely different from the other four books. Like the others\, it is accepted 
 to part of the revelation that Moses received at Mount Sinai. Unlike the o
 thers\, it is presented  as the final speech of a human being\, Moses. Th
 at is only the beginning of the strange and fascinating content of this ex
 traordinary book. Based on the profound scholarship of Dr. Micha Good...
DTSTART;TZID=America/New_York:20151110T193000
DTEND;TZID=America/New_York:20151110T210000
END:VEVENT
END:VCALENDAR
