BEGIN:VCALENDAR
PRODID:-//eluceo/ical//2.0/EN
VERSION:2.0
CALSCALE:GREGORIAN
BEGIN:VEVENT
UID:3cd6d27979208a839f178f1640e0c77e
DTSTAMP:20260422T213505Z
SUMMARY:The Jews of the Ottoman Empire featuring Peter Stavrianidis
DESCRIPTION:Jewish Federation of West-Central New Jersey\nCommunity Calenda
 r\nhttps://jfedwcnj.org/calendar/the-jews-of-the-ottoman-empire-featuring-
 peter-stavrianidis\n\nFree & open to the community.\n\nContinuing our seri
 es of lectures about the history of Jews around the world\, Peter Stavria
 ndis\, Ph.D. will enlighten us about the lives of Jews in the Ottoman Empi
 re and what happened to them as the empire crumbled. Hosted by Jewish Fede
 ration of Somerset\, Hunterdon\, & Warren Counties.\n\nwww.jfedshaw.org/ot
 toman
DTSTART;TZID=America/New_York:20161109T190000
DTEND;TZID=America/New_York:20161109T210000
END:VEVENT
END:VCALENDAR
