BEGIN:VCALENDAR
PRODID:-//eluceo/ical//2.0/EN
VERSION:2.0
CALSCALE:GREGORIAN
BEGIN:VEVENT
UID:ce2b4743212194c6986b976eee422ef0
DTSTAMP:20260423T065432Z
SUMMARY:The Jews of Ethiopia
DESCRIPTION:Jewish Federation of West-Central New Jersey\nCommunity Calenda
 r\nhttps://jfedwcnj.org/calendar/the-jews-of-ethiopia-1472052532\n\nIsrael
 a Tadela will be joining the community to tell her personal history of the
  Jews of Ethiopia as a first generation Israeli.This is a FREE community e
 vent. We ask that you please register ahead of time at www.jfedshaw.org/et
 hiopia
DTSTART;TZID=America/New_York:20160921T193000
DTEND;TZID=America/New_York:20160921T213000
END:VEVENT
END:VCALENDAR
