BEGIN:VCALENDAR
PRODID:-//eluceo/ical//2.0/EN
VERSION:2.0
CALSCALE:GREGORIAN
BEGIN:VEVENT
UID:3ba04cf0eaceebe72f8b742b334ef034
DTSTAMP:20260422T201025Z
SUMMARY:The Jewish Perspective: Death and the Afterlife
DESCRIPTION:Jewish Federation of West-Central New Jersey\nCommunity Calenda
 r\nhttps://jfedwcnj.org/calendar/the-jewish-perspective-death-and-the-afte
 rlife\n\nInstructor: Rabbi Eli Kornfeld\n\nTuesdays\, beginning October 27
 th (6 Sessions)\n\n"The Final Journey" Spiritual\, Emotional and Practical
  Approaches to Death and the Afterlife. Whether you're curious about the a
 fterlife\, have suffered a loss\, or are contemplating the future\, this c
 ourse addressed the philosophical\, practical and emotional aspects.\n\n 
 \n\nFee: $95 includes textbooks.
DTSTART;TZID=America/New_York:20151027T193000
DTEND;TZID=America/New_York:20151027T213000
END:VEVENT
END:VCALENDAR
