BEGIN:VCALENDAR
PRODID:-//eluceo/ical//2.0/EN
VERSION:2.0
CALSCALE:GREGORIAN
BEGIN:VEVENT
UID:72ebb1d21f564da861cb4921a5980b0f
DTSTAMP:20260421T071503Z
SUMMARY:The Jewish Calendar:  The Experience of Time
DESCRIPTION:Jewish Federation of West-Central New Jersey\nCommunity Calenda
 r\nhttps://jfedwcnj.org/calendar/the-jewish-calendar-the-experience-of-tim
 e\n\nRabbi Wylen will lead a discussion of "The Jewish Calendar: The Exper
 ience of Time"\n\nHavdalah at 7:15pm\; program begins at 7:30 pm
DTSTART;TZID=America/New_York:20211113T191500
DTEND;TZID=America/New_York:20211113T213000
END:VEVENT
END:VCALENDAR
