BEGIN:VCALENDAR
PRODID:-//eluceo/ical//2.0/EN
VERSION:2.0
CALSCALE:GREGORIAN
BEGIN:VEVENT
UID:4c915575cb7daac043bfc10468507961
DTSTAMP:20260422T155952Z
SUMMARY:The Institute for Holocaust and Genocide Studies Seminar for Educat
 ors
DESCRIPTION:Jewish Federation of West-Central New Jersey\nCommunity Calenda
 r\nhttps://jfedwcnj.org/calendar/the-institute-for-holocaust-and-genocide-
 studies-seminar-for-educators-1552421835\n\n4 PM â€“ 5 PM *Keynote Address
  by Ariel Burger\, author of WITNESS- Lessons from Elie Wieselâ€™s Classro
 om.\nThe book will be available for purchase for $26.00. Book Signing with
  Ariel Burger following Keynote Address\n\nARIEL BURGER is a writer\, arti
 st\, teacher\, and rabbinical scholar who studied with Elie Wiesel. Using 
 the lessons that he learned from Elie Wiesel\, Ariel encourages us to expl
 ore moral complexities\; be sensitize to indifference\; combat hatred\; em
 brace memory\; accept â€œthe otherâ€...
DTSTART;TZID=America/New_York:20190401T160000
DTEND;TZID=America/New_York:20190401T193000
END:VEVENT
END:VCALENDAR
