BEGIN:VCALENDAR
PRODID:-//eluceo/ical//2.0/EN
VERSION:2.0
CALSCALE:GREGORIAN
BEGIN:VEVENT
UID:a77c1195ddfd07847850f4af943eecee
DTSTAMP:20260423T104450Z
SUMMARY:The Improvables at Temple Sholom
DESCRIPTION:Jewish Federation of West-Central New Jersey\nCommunity Calenda
 r\nhttps://jfedwcnj.org/calendar/the-improvables-at-temple-sholom-16891948
 25\n\nThe Improvables will be performing at Temple Sholom in Bridgewater. 
 We look forward to a fun evening of laugh-out-loud performances by our ver
 y local improv group. We will enjoy light snacks\, beverages\, and dessert
  as we celebrate together our remodeling project. All it takes is a donati
 on of $180 or more to receive 2 tickets to the event.
DTSTART;TZID=America/New_York:20240302T193000
DTEND;TZID=America/New_York:20240302T220000
END:VEVENT
END:VCALENDAR
