BEGIN:VCALENDAR
PRODID:-//eluceo/ical//2.0/EN
VERSION:2.0
CALSCALE:GREGORIAN
BEGIN:VEVENT
UID:c74189cffe190f350fce361f17579ae2
DTSTAMP:20260422T110610Z
SUMMARY:The Hunterdon County Premier of "In Betwee"\, a play by Ibrahim Mia
 ri
DESCRIPTION:Jewish Federation of West-Central New Jersey\nCommunity Calenda
 r\nhttps://jfedwcnj.org/calendar/the-hunterdon-county-premier-of-in-betwee
 -a-play-by-ibrahim-miari-1443636437\n\n"In Between" is semi-autobiographic
 al one-man show that portrays the complexities and contradictions inherent
  in Palestinian-Israeli identity. On the precipice between two cultures st
 ands Ibrahim Miari. His play recalls his childhood in Acre\, memories of h
 is Jewish and Palestinian grandmothers\, of war\, and of the struggle to s
 hape and understand his own multi-faceted identity.Complimentary Israeli s
 nacks and wine to follow.
DTSTART;TZID=America/New_York:20151017T190000
DTEND;TZID=America/New_York:20151017T213000
END:VEVENT
END:VCALENDAR
