BEGIN:VCALENDAR
PRODID:-//eluceo/ical//2.0/EN
VERSION:2.0
CALSCALE:GREGORIAN
BEGIN:VEVENT
UID:8d4864e5e482c5f6095b356aecb705da
DTSTAMP:20260423T020020Z
SUMMARY:The Holocaust\, a Basketball Legacy\, and an Unprecedented American
  Dream
DESCRIPTION:Jewish Federation of West-Central New Jersey\nCommunity Calenda
 r\nhttps://jfedwcnj.org/calendar/the-holocaust-a-basketball-legacy-and-an-
 unprecedented-american-dream-1643380863\n\nAuthor Dan Grunfeld\, and his f
 ather Ernie Grunfeld\, former NBA player and general manager of the New Yo
 rk Knicks\, will discuss Dan’s new book\, “By the Grace of the Game: T
 he Holocaust\, a Basketball Legacy\, and an Unprecedented American Dream.
 ” From the grips of the Nazis to the top of the Olympic podium\, this co
 mpelling story of the Grunfeld family’s history traverses the spectrum o
 f the human experience to detail how perseverance\, love\, and legacy can 
 survive through generations. Fre...
DTSTART;TZID=America/New_York:20220323T190000
DTEND;TZID=America/New_York:20220323T200000
END:VEVENT
END:VCALENDAR
