BEGIN:VCALENDAR
PRODID:-//eluceo/ical//2.0/EN
VERSION:2.0
CALSCALE:GREGORIAN
BEGIN:VEVENT
UID:c873d19232d37836964810c025d7558c
DTSTAMP:20260422T194108Z
SUMMARY:The Great Big Challah Bake
DESCRIPTION:Jewish Federation of West-Central New Jersey\nCommunity Calenda
 r\nhttps://jfedwcnj.org/calendar/the-great-big-challah-bake-1573592764\n\n
 The Great Big Challah Bake is about bringing Jews from all walks of life\,
  from across the spectrum of religious affiliation\, young and old\, from 
 all corners of the world – together to experience one full Shabbat. All 
 are welcome to join!
DTSTART;TZID=America/New_York:20191121T163000
DTEND;TZID=America/New_York:20191121T190000
END:VEVENT
END:VCALENDAR
