BEGIN:VCALENDAR
PRODID:-//eluceo/ical//2.0/EN
VERSION:2.0
CALSCALE:GREGORIAN
BEGIN:VEVENT
UID:39ade7b9865354b831c83d48f44209cf
DTSTAMP:20260423T094800Z
SUMMARY:THE GENIUS OF WOMEN- JANICE KAPLAN
DESCRIPTION:Jewish Federation of West-Central New Jersey\nCommunity Calenda
 r\nhttps://jfedwcnj.org/calendar/the-genius-of-women--janice-kaplan-160078
 3927\n\nWe tell girls that they can be anything\, so why do 90 percent of 
 Americans believe that geniuses are almost always men? New York Times best
 selling journalist and creator and host of the podcast The Gratitude Diari
 es Janice Kaplan explores the powerful forces that have rigged the system&
 mdash\;and celebrates the women geniuses\, past and present\, who have tri
 umphed anyway.\n\n Even in this time of rethinking women&rsquo\;s roles\, 
 we define genius almost exclusively through male achievement. When asked t
 o...
DTSTART;TZID=America/New_York:20210505T190000
DTEND;TZID=America/New_York:20210505T210000
END:VEVENT
END:VCALENDAR
