BEGIN:VCALENDAR
PRODID:-//eluceo/ical//2.0/EN
VERSION:2.0
CALSCALE:GREGORIAN
BEGIN:VEVENT
UID:966ff8e82d1c4e260ed72e1eaf2f0f32
DTSTAMP:20260423T195738Z
SUMMARY:The Early Warning Project for the Prevention of Genocide
DESCRIPTION:Jewish Federation of West-Central New Jersey\nCommunity Calenda
 r\nhttps://jfedwcnj.org/calendar/the-early-warning-project-for-the-prevent
 ion-of-genocide\n\nCan future genocides be prevented? The Early Warning Pr
 oject assesses the risk of mass atrocities in countries around the world u
 sing state-of-the-art quantitative and qualitative methods and a range of 
 widely available data. This presentation will give an overview of how the 
 Early Warning Project produces its annual Statistical Risk Assessment and 
 qualitative country reports. We will briefly discuss relevant cases happen
 ing in the world today and conclude with a discussion of what you can do..
 .
DTSTART;TZID=America/New_York:20211019T130000
DTEND;TZID=America/New_York:20211019T140000
END:VEVENT
END:VCALENDAR
