BEGIN:VCALENDAR
PRODID:-//eluceo/ical//2.0/EN
VERSION:2.0
CALSCALE:GREGORIAN
BEGIN:VEVENT
UID:b2d61228b1c4726c537fc78a29ec663b
DTSTAMP:20260419T221030Z
SUMMARY:The Disputation
DESCRIPTION:Jewish Federation of West-Central New Jersey\nCommunity Calenda
 r\nhttps://jfedwcnj.org/calendar/the-disputation\n\nThe film is about a hi
 storical event in Judaism: a debate between Nachmanides and Friar Palo Chr
 istiani.  The debate is about the nature of the messiah and the differenc
 es between Judaism and Christianity on the topic.  Christopher Lee plays 
 King James\, who orders the debate.  Rabbi Katz will lead a discussion af
 ter the film about the messiah from the perspective of Reform Judaism.\n\n
  \n\nYou can read about the film at: https://www.imdb.com/title/tt0090950
 /?ref_=fn_all_ttl_1\n\n 
DTSTART;TZID=America/New_York:20250504T190000
DTEND;TZID=America/New_York:20250504T210000
END:VEVENT
END:VCALENDAR
