BEGIN:VCALENDAR
PRODID:-//eluceo/ical//2.0/EN
VERSION:2.0
CALSCALE:GREGORIAN
BEGIN:VEVENT
UID:a59a180b90d5acca8108580df6e5ecc5
DTSTAMP:20260423T213108Z
SUMMARY:The Book Thief
DESCRIPTION:Jewish Federation of West-Central New Jersey\nCommunity Calenda
 r\nhttps://jfedwcnj.org/calendar/the-book-thief\n\nIn 1938\, young orphan 
 Liesel (Sophie Nélisse) arrives at the home of her new foster parents\, H
 ans (Geoffrey Rush) and Rosa (Emily Watson). When Hans\, a kindly housepai
 nter\, learns that Liesel cannot read\, he teaches the child the wonders o
 f the written language. Liesel grows to love books\, even rescuing one fro
 m a Nazi bonfire. Though Liesel’s new family barely scrape by\, their si
 tuation becomes even more precarious when they secretly shelter a Jewish b
 oy whose father once saved Hans’ li...
DTSTART;TZID=America/New_York:20180210T200000
DTEND;TZID=America/New_York:20180210T220000
END:VEVENT
END:VCALENDAR
